BEGIN:VCALENDAR
VERSION:2.0
PRODID:-//Candice Bakes - ECPv6.15.20//NONSGML v1.0//EN
CALSCALE:GREGORIAN
METHOD:PUBLISH
X-ORIGINAL-URL:https://candicebakes.com
X-WR-CALDESC:Évènements pour Candice Bakes
REFRESH-INTERVAL;VALUE=DURATION:PT1H
X-Robots-Tag:noindex
X-PUBLISHED-TTL:PT1H
BEGIN:VTIMEZONE
TZID:Europe/Paris
BEGIN:DAYLIGHT
TZOFFSETFROM:+0100
TZOFFSETTO:+0200
TZNAME:CEST
DTSTART:20250330T010000
END:DAYLIGHT
BEGIN:STANDARD
TZOFFSETFROM:+0200
TZOFFSETTO:+0100
TZNAME:CET
DTSTART:20251026T010000
END:STANDARD
BEGIN:DAYLIGHT
TZOFFSETFROM:+0100
TZOFFSETTO:+0200
TZNAME:CEST
DTSTART:20260329T010000
END:DAYLIGHT
BEGIN:STANDARD
TZOFFSETFROM:+0200
TZOFFSETTO:+0100
TZNAME:CET
DTSTART:20261025T010000
END:STANDARD
BEGIN:DAYLIGHT
TZOFFSETFROM:+0100
TZOFFSETTO:+0200
TZNAME:CEST
DTSTART:20270328T010000
END:DAYLIGHT
BEGIN:STANDARD
TZOFFSETFROM:+0200
TZOFFSETTO:+0100
TZNAME:CET
DTSTART:20271031T010000
END:STANDARD
END:VTIMEZONE
BEGIN:VEVENT
DTSTART;TZID=Europe/Paris:20260801T143000
DTEND;TZID=Europe/Paris:20260801T173000
DTSTAMP:20260422T015246
CREATED:20260410T113112Z
LAST-MODIFIED:20260410T113316Z
UID:4029-1785594600-1785605400@candicebakes.com
SUMMARY:Atelier Adulte - Forêt noire revisitée
DESCRIPTION:Je vous propose un nouvel atelier Forêt noire\, en version revisitée. \nCet atelier est accessible aux débutants comme aux plus confirmés en pâtisserie\, à partir de 14 ans. \nVous apprendrez : \n\nà réaliser une génoise au cacao\nà réaliser un sirop aux cerises Amarena (avec ou sans alcool)\nà réaliser des décors en chocolat tempéré\nà monter une chantilly qui se tient\nà pocher la chantilly pour avoir un visuel géométrique et très moderne\, digne d’une boutique de pâtisserie !\n\nVous repartez avec votre création et la recette. \nPetit comité pour un maximum de qualité : 4 places maximum. \n\nPrix pour 1 adulte\nTout est fourni\, vous n’avez plus qu’à réserver votre place et venir avec votre bonne humeur \nSi vous avez une question\, vous pouvez me contacter par email contact@candicebakes.com ou au 06 29 51 52 78\nEn réservant\, vous acceptez les conditions générales de ventes atelier disponibles sur le site internet : https://candicebakes.com/conditions-generales-de-vente-cgv-ateliers/\nL’atelier est maintenu avec au moins 2 participants.
URL:https://candicebakes.com/atelier/atelier-adulte-foret-noire-revisitee-2/
LOCATION:Atelier Sainte-Marguerite\, 54 rue des Anémones\, Sainte-Marguerite\, 88100\, France
ATTACH;FMTTYPE=image/webp:https://candicebakes.com/wp-content/uploads/2024/07/foret-noire-candice-bakes.webp
END:VEVENT
BEGIN:VEVENT
DTSTART;TZID=Europe/Paris:20260802T143000
DTEND;TZID=Europe/Paris:20260802T183000
DTSTAMP:20260422T015246
CREATED:20260410T113741Z
LAST-MODIFIED:20260410T113741Z
UID:4032-1785681000-1785695400@candicebakes.com
SUMMARY:Atelier Adulte – Saint Honoré Vanille Chocolat
DESCRIPTION:Vous souhaitez apprendre à réaliser un Saint honoré revisité aux saveurs vanille chocolat ? \nFaites le plein de techniques avec les différentes textures et apprenez à pocher pour avoir un visuel bluffant ! Effet wahou garanti ! \nVous repartez avec votre Saint Honoré Vanille Chocolat pour 4-6 personnes et la recette. \nL’ atelier est adapté aux adultes débutants et plus expérimentés à partir de 14 ans. \nAu programme de cet atelier gourmand : \nVous réaliserez : \n\nun feuilletage croustillant express (et gourmand !)\nun croustillant praliné\,\ndes petits choux au craquelin cacao\,\n2 types de crèmes vanille aux textures et tenues différentes\,\nun gel cacao\,\nle montage de votre St honoré\nle pochage caractéristique du St Honoré\n\nJe vous donnerai toutes les astuces d’organisation pour refaire votre Saint Honoré Vanille Chocolat chez vous. \nDurée : 4h-4h30 \n\nPrix pour un adulte\nTout est fourni\, vous n’avez plus qu’à réserver votre place et venir avec votre bonne humeur \nSi vous avez une question\, vous pouvez me contacter par email contact@candicebakes.com ou au 06 29 51 52 78\nEn réservant\, vous acceptez les conditions générales de ventes atelier disponible sur le site internet https://candicebakes.com/conditions-generales-de-vente-cgv-ateliers/\nAtelier en petit comité : 4 personnes maximum par session
URL:https://candicebakes.com/atelier/atelier-adulte-saint-honore-vanille-chocolat-2/
LOCATION:Atelier Sainte-Marguerite\, 54 rue des Anémones\, Sainte-Marguerite\, 88100\, France
ATTACH;FMTTYPE=image/webp:https://candicebakes.com/wp-content/uploads/2025/01/st-ho-scaled.webp
END:VEVENT
BEGIN:VEVENT
DTSTART;TZID=Europe/Paris:20260808T140000
DTEND;TZID=Europe/Paris:20260808T180000
DTSTAMP:20260422T015246
CREATED:20260410T140238Z
LAST-MODIFIED:20260410T140526Z
UID:4050-1786197600-1786212000@candicebakes.com
SUMMARY:Atelier Adulte - Entremets Gianduja
DESCRIPTION:Je vous propose un nouvel atelier Entremets Gianduja\, où vous réaliserez pas à pas un entremets gianduja pour 4 personnes. \nCet atelier est accessible aux débutants comme aux plus confirmés en pâtisserie\, à partir de 14 ans. \nVous apprendrez : \n\nà réaliser une dacquoise aux noisettes\,\nà préparer une bavaroise au gianduja\,\nà réaliser un croustillant praliné\nà monter votre entremets dans les règles de l’art\nà réaliser un praliné\,\nà floquer votre entremets pour un effet velours.\n\nVous repartez avec votre entremets gianduja et la recette. \nVous pourrez le congeler si vous le souhaitez. \nPetit comité pour un maximum de qualité : 4 places maximum. \n\nPrix pour 1 adulte\nTout est fourni\, vous n’avez plus qu’à réserver votre place et venir avec votre bonne humeur \nSi vous avez une question\, vous pouvez me contacter par email contact@candicebakes.com ou au 06 29 51 52 78\nEn réservant\, vous acceptez les conditions générales de ventes atelier disponibles sur le site internet : https://candicebakes.com/conditions-generales-de-vente-cgv-ateliers/\nL’atelier est maintenu avec au moins 2 participants.
URL:https://candicebakes.com/atelier/atelier-adulte-entremets-gianduja/
LOCATION:Atelier Sainte-Marguerite\, 54 rue des Anémones\, Sainte-Marguerite\, 88100\, France
ATTACH;FMTTYPE=image/webp:https://candicebakes.com/wp-content/uploads/2026/04/Entremets-Gianduja.webp
END:VEVENT
END:VCALENDAR