BEGIN:VCALENDAR
VERSION:2.0
PRODID:-//Candice Bakes - ECPv6.15.20//NONSGML v1.0//EN
CALSCALE:GREGORIAN
METHOD:PUBLISH
X-ORIGINAL-URL:https://candicebakes.com
X-WR-CALDESC:Évènements pour Candice Bakes
REFRESH-INTERVAL;VALUE=DURATION:PT1H
X-Robots-Tag:noindex
X-PUBLISHED-TTL:PT1H
BEGIN:VTIMEZONE
TZID:Europe/Paris
BEGIN:DAYLIGHT
TZOFFSETFROM:+0100
TZOFFSETTO:+0200
TZNAME:CEST
DTSTART:20250330T010000
END:DAYLIGHT
BEGIN:STANDARD
TZOFFSETFROM:+0200
TZOFFSETTO:+0100
TZNAME:CET
DTSTART:20251026T010000
END:STANDARD
BEGIN:DAYLIGHT
TZOFFSETFROM:+0100
TZOFFSETTO:+0200
TZNAME:CEST
DTSTART:20260329T010000
END:DAYLIGHT
BEGIN:STANDARD
TZOFFSETFROM:+0200
TZOFFSETTO:+0100
TZNAME:CET
DTSTART:20261025T010000
END:STANDARD
BEGIN:DAYLIGHT
TZOFFSETFROM:+0100
TZOFFSETTO:+0200
TZNAME:CEST
DTSTART:20270328T010000
END:DAYLIGHT
BEGIN:STANDARD
TZOFFSETFROM:+0200
TZOFFSETTO:+0100
TZNAME:CET
DTSTART:20271031T010000
END:STANDARD
END:VTIMEZONE
BEGIN:VEVENT
DTSTART;TZID=Europe/Paris:20260102T093000
DTEND;TZID=Europe/Paris:20260102T113000
DTSTAMP:20260422T032506
CREATED:20251008T152005Z
LAST-MODIFIED:20251106T100627Z
UID:3327-1767346200-1767353400@candicebakes.com
SUMMARY:Atelier Enfant - Galette des rois Sucettes
DESCRIPTION:Coucou les mordus de galette ! Entre nous\, vous avez bien raison\, et c’est une belle manière de commencer l’année ! \nCet atelier vous plongera dans le croustillant de la pâte feuilletée et la douceur de l’amande (rien que ça !). \nVotre enfant réalisera une galette à la crème d’amande\, en forme de sucettes ! Il pourra laisser libre cours à son imagination pour la décoration et les formes ! \nCet atelier est conçu pour un enfant entre 8 ans et 13 ans. \nAu programme\, votre enfant apprendra : \n\nà réaliser un feuilletage express avec toutes les astuces pour tourer sa pâte\,\nà faire un tour simple comme les pro !\nà préparer une crème d’amande. En cas d’allergie\, je peux vous proposer une autre garniture 😉\nà abaisser correctement sa pâte feuilletée et assembler ses sucettes galette des rois\nà utiliser les chutes de pâte afin de ne rien gâcher\nles astuces pour avoir une galette bien brillante\n\n💰 Prix pour un enfant (8- 13 ans) \n📍 Tout est fourni\, vous n’avez plus qu’à réserver votre place 😉 \n📩 Une question ? Contactez-moi par email contact@candicebakes.com ou au 06 29 51 52 78 \n\nEn réservant\, vous acceptez les conditions générales de ventes atelier disponibles sur le site internet : https://candicebakes.com/conditions-generales-de-vente-cgv-ateliers/
URL:https://candicebakes.com/atelier/atelier-enfant-galette-des-rois-sucettes/
LOCATION:Atelier Sainte-Marguerite\, 54 rue des Anémones\, Sainte-Marguerite\, 88100\, France
ATTACH;FMTTYPE=image/webp:https://candicebakes.com/wp-content/uploads/2025/10/Sucettes-galettes-des-rois.webp
END:VEVENT
BEGIN:VEVENT
DTSTART;TZID=Europe/Paris:20260103T093000
DTEND;TZID=Europe/Paris:20260103T120000
DTSTAMP:20260422T032506
CREATED:20251008T151013Z
LAST-MODIFIED:20251106T092517Z
UID:3321-1767432600-1767441600@candicebakes.com
SUMMARY:Atelier Parent Enfant - Galette des rois Pomme
DESCRIPTION:Coucou les fans de galette ! Bienvenue dans cet atelier qui allie le croustillant de la pâte feuilletée et l’acidulé de la pomme ! \nVous réaliserez en duo une galette des rois en forme de pomme verte. \nCet atelier est conçu pour un duo adulte/enfant à partir de 7 ans et jusqu’à 13 ans. \nAu programme\, vous apprendrez : \n\nà réaliser un feuilletage express avec toutes les astuces pour tourer votre pâte\,\nà faire un tour simple comme les pro !\nà préparer un confit de pomme\,\nà abaisser correctement votre pâte feuilletée et assembler votre galette des rois Pomme\,\nà rayer et colorer votre galette pour lui donner vie\,\nà utiliser vos chutes de votre si belle pâte afin de ne rien gâcher\,\nles astuces pour avoir une galette bien brillante\n\n💰 Prix pour un duo adulte/enfant (jusqu’à 13 ans) \n📍 Tout est fourni\, vous n’avez plus qu’à réserver votre place 😉 \n📩 Une question ? Contactez-moi par email contact@candicebakes.com ou au 06 29 51 52 78 \n\nEn réservant\, vous acceptez les conditions générales de ventes atelier disponible sur le site internet : https://candicebakes.com/conditions-generales-de-vente-cgv-ateliers/
URL:https://candicebakes.com/atelier/atelier-parent-enfant-galette-des-rois-pomme/
LOCATION:Atelier Sainte-Marguerite\, 54 rue des Anémones\, Sainte-Marguerite\, 88100\, France
ATTACH;FMTTYPE=image/webp:https://candicebakes.com/wp-content/uploads/2025/01/Galette-pomme.webp
END:VEVENT
BEGIN:VEVENT
DTSTART;TZID=Europe/Paris:20260117T093000
DTEND;TZID=Europe/Paris:20260117T113000
DTSTAMP:20260422T032506
CREATED:20251106T135859Z
LAST-MODIFIED:20260112T195426Z
UID:3422-1768642200-1768649400@candicebakes.com
SUMMARY:Atelier Enfant - Galette des rois Sucettes
DESCRIPTION:Coucou les mordus de galette ! Entre nous\, vous avez bien raison\, et c’est une belle manière de commencer l’année ! \nCet atelier vous plongera dans le croustillant de la pâte feuilletée et la douceur de l’amande (rien que ça !). \nVotre enfant réalisera une galette à la crème d’amande\, en forme de sucettes ! Il pourra laisser libre cours à son imagination pour la décoration et les formes ! \nCet atelier est conçu pour un enfant entre 8 ans et 13 ans. \nAu programme\, votre enfant apprendra : \n\nà réaliser un feuilletage express avec toutes les astuces pour tourer sa pâte\,\nà faire un tour simple comme les pro !\nà préparer une crème d’amande. En cas d’allergie\, je peux vous proposer une autre garniture 😉\nà abaisser correctement sa pâte feuilletée et assembler ses sucettes galette des rois\nà utiliser les chutes de pâte afin de ne rien gâcher\nles astuces pour avoir une galette bien brillante\n\n💰 Prix pour un enfant (8- 13 ans) \n📍 Tout est fourni\, vous n’avez plus qu’à réserver votre place 😉 \n📩 Une question ? Contactez-moi par email contact@candicebakes.com ou au 06 29 51 52 78 \n\nEn réservant\, vous acceptez les conditions générales de ventes atelier disponibles sur le site internet : https://candicebakes.com/conditions-generales-de-vente-cgv-ateliers/
URL:https://candicebakes.com/atelier/atelier-enfant-galette-des-rois-sucettes-2/
LOCATION:Atelier Sainte-Marguerite\, 54 rue des Anémones\, Sainte-Marguerite\, 88100\, France
ATTACH;FMTTYPE=image/webp:https://candicebakes.com/wp-content/uploads/2025/10/Sucettes-galettes-des-rois.webp
END:VEVENT
BEGIN:VEVENT
DTSTART;TZID=Europe/Paris:20260118T093000
DTEND;TZID=Europe/Paris:20260118T120000
DTSTAMP:20260422T032506
CREATED:20251106T135555Z
LAST-MODIFIED:20260112T195518Z
UID:3418-1768728600-1768737600@candicebakes.com
SUMMARY:Atelier Parent Enfant - Galette des rois Pomme
DESCRIPTION:Coucou les fans de galette ! Bienvenue dans cet atelier qui allie le croustillant de la pâte feuilletée et l’acidulé de la pomme ! \nVous réaliserez en duo une galette des rois en forme de pomme verte. \nCet atelier est conçu pour un duo adulte/enfant à partir de 7 ans et jusqu’à 13 ans. \nAu programme\, vous apprendrez : \n\nà réaliser un feuilletage express avec toutes les astuces pour tourer votre pâte\,\nà faire un tour simple comme les pro !\nà préparer un confit de pomme\,\nà abaisser correctement votre pâte feuilletée et assembler votre galette des rois Pomme\,\nà rayer et colorer votre galette pour lui donner vie\,\nà utiliser vos chutes de votre si belle pâte afin de ne rien gâcher\,\nles astuces pour avoir une galette bien brillante\n\n💰 Prix pour un duo adulte/enfant (jusqu’à 13 ans) \n📍 Tout est fourni\, vous n’avez plus qu’à réserver votre place 😉 \n📩 Une question ? Contactez-moi par email contact@candicebakes.com ou au 06 29 51 52 78 \n\nEn réservant\, vous acceptez les conditions générales de ventes atelier disponible sur le site internet : https://candicebakes.com/conditions-generales-de-vente-cgv-ateliers/
URL:https://candicebakes.com/atelier/atelier-parent-enfant-galette-des-rois-pomme-2/
LOCATION:Atelier Sainte-Marguerite\, 54 rue des Anémones\, Sainte-Marguerite\, 88100\, France
ATTACH;FMTTYPE=image/webp:https://candicebakes.com/wp-content/uploads/2025/01/Galette-pomme.webp
END:VEVENT
BEGIN:VEVENT
DTSTART;TZID=Europe/Paris:20260131T143000
DTEND;TZID=Europe/Paris:20260131T183000
DTSTAMP:20260422T032506
CREATED:20251119T110923Z
LAST-MODIFIED:20251202T100339Z
UID:3506-1769869800-1769884200@candicebakes.com
SUMMARY:Atelier Adulte - Brioche feuilletée & Cookies
DESCRIPTION:Vous aimez pâtisser\, et vous souhaitez aller plus loin en réalisant cette magnifique brioche feuilletée ? \nSi vous êtes un ou une amoureux.se de la pâte levée feuilletée (PLF)\, vous avez sonné à la bonne porte ! \nLe cours est adapté aux adultes débutants et plus expérimentés à partir de 14 ans. \nDescription de l’atelier : \nVous allez apprendre : \n\n\n\ntoutes les étapes et astuces autour de la pâte levée feuilletée si redoutée\,\nà réaliser une PLF\, à la détailler et à la cuire correctement\,\nà réaliser un caramel onctueux\,\nà réaliser des cookies ultra gourmands pendant la pousse\,\n\n\n\nVous repartez avec vos créations : votre Brioche feuilletée\, cookies et une détrempe pour vous entraînez le lendemain 😉 \nPetit comité pour un maximum de qualité : 4 places maximum. \n\nPrix pour 1 adulte\nTout est fourni\, vous n’avez plus qu’à réserver votre place et venir avec votre bonne humeur \nSi vous avez une question\, vous pouvez me contacter par email contact@candicebakes.com ou au 06 29 51 52 78\nEn réservant\, vous acceptez les conditions générales de ventes atelier disponibles sur le site internet : https://candicebakes.com/conditions-generales-de-vente-cgv-ateliers/\nL’atelier est maintenu avec au moins 2 participants.\n\n 
URL:https://candicebakes.com/atelier/atelier-adulte-brioche-feuilletee-cookies-4/
LOCATION:Atelier Sainte-Marguerite\, 54 rue des Anémones\, Sainte-Marguerite\, 88100\, France
ATTACH;FMTTYPE=image/webp:https://candicebakes.com/wp-content/uploads/2024/06/brioche-feuilletee-candice-bakes.webp
END:VEVENT
END:VCALENDAR