BEGIN:VCALENDAR
VERSION:2.0
PRODID:-//Candice Bakes - ECPv6.15.20//NONSGML v1.0//EN
CALSCALE:GREGORIAN
METHOD:PUBLISH
X-ORIGINAL-URL:https://candicebakes.com
X-WR-CALDESC:Évènements pour Candice Bakes
REFRESH-INTERVAL;VALUE=DURATION:PT1H
X-Robots-Tag:noindex
X-PUBLISHED-TTL:PT1H
BEGIN:VTIMEZONE
TZID:Europe/Paris
BEGIN:DAYLIGHT
TZOFFSETFROM:+0100
TZOFFSETTO:+0200
TZNAME:CEST
DTSTART:20250330T010000
END:DAYLIGHT
BEGIN:STANDARD
TZOFFSETFROM:+0200
TZOFFSETTO:+0100
TZNAME:CET
DTSTART:20251026T010000
END:STANDARD
BEGIN:DAYLIGHT
TZOFFSETFROM:+0100
TZOFFSETTO:+0200
TZNAME:CEST
DTSTART:20260329T010000
END:DAYLIGHT
BEGIN:STANDARD
TZOFFSETFROM:+0200
TZOFFSETTO:+0100
TZNAME:CET
DTSTART:20261025T010000
END:STANDARD
BEGIN:DAYLIGHT
TZOFFSETFROM:+0100
TZOFFSETTO:+0200
TZNAME:CEST
DTSTART:20270328T010000
END:DAYLIGHT
BEGIN:STANDARD
TZOFFSETFROM:+0200
TZOFFSETTO:+0100
TZNAME:CET
DTSTART:20271031T010000
END:STANDARD
END:VTIMEZONE
BEGIN:VEVENT
DTSTART;TZID=Europe/Paris:20260601T140000
DTEND;TZID=Europe/Paris:20260601T163000
DTSTAMP:20260421T220931
CREATED:20241105T102225Z
LAST-MODIFIED:20260326T112638Z
UID:2266-1780322400-1780331400@candicebakes.com
SUMMARY:Escape Cake - Créneau et date à réserver selon vos disponibilités
DESCRIPTION:Nouveau concept : l’Escape Cake ! 🍰\nVous aimez la pâtisserie\, les défis et les moments conviviaux ? L’Escape Cake est fait pour vous !\n🧩 L’escape cake\, c’est un doux mélange entre un escape game et un atelier de pâtisserie. En groupe\, vous devez résoudre des énigmes afin d’avancer dans la recette de votre dessert favori ! \n⏳ 2h30 d’immersion pour les curieux\, les gourmands et ceux qui aiment se surpasser en équipe ! Idéal pour un moment de cohésion🎉. \nPrêts à relever le défi ? Réservez vite votre session ! \nCe créneau est modifiable selon vos disponibilités et l’atelier peut accueillir jusqu’à 10 personnes (minimum 3 personnes). \nComme lors un atelier classique\, vous repartez avec vos créations gourmandes. \nPâtisseries et saveurs au choix : choux\, macarons\, petits gâteaux Tea Time\, etc. Discutons-en! \nA partir de 68 euros par personne (minimum 3 personnes).  \nPourquoi choisir Candice Bakes ?\n\nFlexibilité des horaires : Choisissez le créneau qui vous convient le mieux pour une expérience sur-mesure. Ce créneau peut être modifié selon votre agenda.\nCadre agréable et inspirant : En petit comité\, je vous chouchoute dans la réalisation de votre pâtisserie et vous pouvez laisser place à votre créativité lors de l’étape de la décoration.\nExpérience inoubliable : Repartez avec des souvenirs gourmands et des connaissances précieuses qui vous permettront de briller en cuisine.\n\nRéservez dès maintenant !\nPour plus d’informations ou pour réserver votre Escape Cake\, contactez-moi sur contact@candicebakes.com. \nCette activité est aussi pour les entreprises ! Contactez-moi pour en discuter !
URL:https://candicebakes.com/atelier/escape-cake/
LOCATION:Atelier Sainte-Marguerite\, 54 rue des Anémones\, Sainte-Marguerite\, 88100\, France
ATTACH;FMTTYPE=image/webp:https://candicebakes.com/wp-content/uploads/2024/10/escape-cake-scaled.webp
END:VEVENT
BEGIN:VEVENT
DTSTART;TZID=Europe/Paris:20260628T140000
DTEND;TZID=Europe/Paris:20260628T170000
DTSTAMP:20260421T220931
CREATED:20240603T192336Z
LAST-MODIFIED:20260326T112804Z
UID:1718-1782655200-1782666000@candicebakes.com
SUMMARY:Atelier Privé - Créneau et date à réserver selon vos disponibilités
DESCRIPTION:Atelier de Pâtisserie en famille ou entre amis !\nOffrez-vous une expérience unique et gourmande en privatisant l’atelier de pâtisserie pour une session mémorable entre ami.e.s\, en famille ou pour célébrer un événement spécial comme un anniversaire. Quelle que soit l’occasion\, laissez-vous guider dans la réalisation de la pâtisserie de vos rêves\, et surtout\, vous repartez avec pour vous régaler ! \nCe créneau est modifiable selon vos disponibilités et l’atelier peut accueillir jusqu’à 8 personnes. Vous choisissez la pâtisserie que vous voulez réaliser ! \nCe que je vous propose :\n\nPrivatisation de l’atelier :  rien que pour vous et vos invités. C’est presque comme à la maison\, mais avec plus d’équipements 😉\nAccompagnement sur-mesure : Si vous avez un thème ou une idée bien précise\, je mets tout en œuvre pour vous guider dans la réalisation de votre dessert.\nAllier l’utile à l’agréable : Rires\, échanges et bonne humeur seront au rendez-vous. L’atelier est l’occasion parfaite pour renforcer les liens tout en découvrant de nouvelles compétences.\nDégustation et partage : À la fin de l’atelier\, vous repartez avec la recette et votre création pour prolonger le plaisir chez vous.\n\nPourquoi choisir Candice Bakes ?\n\nFlexibilité des horaires : Choisissez le créneau qui vous convient le mieux pour une expérience sur-mesure. Ce créneau peut être modifié selon votre agenda.\nCadre agréable et inspirant : En petit comité\, je vous chouchoute dans la réalisation de votre pâtisserie et vous pouvez laisser place à votre créativité lors de l’étape de la décoration.\nExpérience inoubliable : Repartez avec des souvenirs gourmands et des connaissances précieuses qui vous permettront de briller en cuisine.\n\nQuelques exemples d’ateliers :\n\nChoux Chocolat Praliné\, 2h-2h30\, 60 euros/p (min. 3 personnes)\nMacarons Party (chocolat\, vanille\, framboise et praliné) 2h30\, 65 euros/p (min. 3 personnes)\nForêt Noire au visuel revisité\, pochage et travail du chocolat\, 3h\, 80 euros/p (min. 3 personnes)\nTarte revisitée façon entremets (avec plein de textures) : framboise dulcey\, framboise litchi\, dulcey mangue passion\, etc. 3h\, 80 euros/p (min. 3 personnes)\nSt Honoré ou entremets avec glaçage et finition\, bûches de noël\, 4 h\, 100-110 euros/p (min. 3 personnes)\n\nRéservez dès maintenant !\nPour plus d’informations ou pour réserver votre atelier de pâtisserie privé\, contactez-moi sur contact@candicebakes.com.
URL:https://candicebakes.com/atelier/atelier-prive-creneau-a-reserver-selon-vos-disponibilites/
LOCATION:Atelier Sainte-Marguerite\, 54 rue des Anémones\, Sainte-Marguerite\, 88100\, France
ATTACH;FMTTYPE=image/webp:https://candicebakes.com/wp-content/uploads/2024/06/entremets-mangue-framboise-candice-bakes-scaled.webp
END:VEVENT
END:VCALENDAR