BEGIN:VCALENDAR
VERSION:2.0
PRODID:-//Candice Bakes - ECPv6.15.20//NONSGML v1.0//EN
CALSCALE:GREGORIAN
METHOD:PUBLISH
X-ORIGINAL-URL:https://candicebakes.com
X-WR-CALDESC:Évènements pour Candice Bakes
REFRESH-INTERVAL;VALUE=DURATION:PT1H
X-Robots-Tag:noindex
X-PUBLISHED-TTL:PT1H
BEGIN:VTIMEZONE
TZID:Europe/Paris
BEGIN:DAYLIGHT
TZOFFSETFROM:+0100
TZOFFSETTO:+0200
TZNAME:CEST
DTSTART:20250330T010000
END:DAYLIGHT
BEGIN:STANDARD
TZOFFSETFROM:+0200
TZOFFSETTO:+0100
TZNAME:CET
DTSTART:20251026T010000
END:STANDARD
BEGIN:DAYLIGHT
TZOFFSETFROM:+0100
TZOFFSETTO:+0200
TZNAME:CEST
DTSTART:20260329T010000
END:DAYLIGHT
BEGIN:STANDARD
TZOFFSETFROM:+0200
TZOFFSETTO:+0100
TZNAME:CET
DTSTART:20261025T010000
END:STANDARD
BEGIN:DAYLIGHT
TZOFFSETFROM:+0100
TZOFFSETTO:+0200
TZNAME:CEST
DTSTART:20270328T010000
END:DAYLIGHT
BEGIN:STANDARD
TZOFFSETFROM:+0200
TZOFFSETTO:+0100
TZNAME:CET
DTSTART:20271031T010000
END:STANDARD
END:VTIMEZONE
BEGIN:VEVENT
DTSTART;TZID=Europe/Paris:20260327T140000
DTEND;TZID=Europe/Paris:20260327T170000
DTSTAMP:20260421T223016
CREATED:20260205T170007Z
LAST-MODIFIED:20260206T172448Z
UID:3766-1774620000-1774630800@candicebakes.com
SUMMARY:Atelier Adulte - Gros œuf en chocolat noir
DESCRIPTION:Atelier spécial pour les amoureux du chocolat ! \nJe profite de la période de Pâques pour vous proposer de confectionner votre propre œuf en chocolat garni grand format (20 cm de haut). \nLe cours est adapté aux adultes débutants et plus expérimentés à partir de 14 ans. \nDescription de l’atelier : \nVous allez apprendre : \n\n\n\nà tempérer du chocolat noir\,\nà préparer et décorer votre moule à œuf\,\nà réaliser un croustillant praliné pour garnir votre œuf\,\nà réaliser la friture chocolatée\,\nà assembler votre bel œuf en chocolat.\n\n\n\nVous repartez avec votre création : un grand œuf en chocolat garni de croustillant praliné et de friture.  Il se conservera jusqu’à Pâques 😉 \nPetit comité pour un maximum de qualité : 4 places maximum. \n\nPrix pour 1 adulte\nTout est fourni\, vous n’avez plus qu’à réserver votre place et venir avec votre bonne humeur \nSi vous avez une question\, vous pouvez me contacter par email contact@candicebakes.com ou au 06 29 51 52 78\nEn réservant\, vous acceptez les conditions générales de ventes atelier disponibles sur le site internet : https://candicebakes.com/conditions-generales-de-vente-cgv-ateliers/\nL’atelier est maintenu avec au moins 2 participants.\n\n 
URL:https://candicebakes.com/atelier/atelier-adulte-oeuf-en-chocolat-noir/
LOCATION:Atelier Sainte-Marguerite\, 54 rue des Anémones\, Sainte-Marguerite\, 88100\, France
ATTACH;FMTTYPE=image/webp:https://candicebakes.com/wp-content/uploads/2026/02/oeufs-chocolat-adulte.webp
END:VEVENT
END:VCALENDAR