BEGIN:VCALENDAR
VERSION:2.0
PRODID:-//Candice Bakes - ECPv6.15.20//NONSGML v1.0//EN
CALSCALE:GREGORIAN
METHOD:PUBLISH
X-ORIGINAL-URL:https://candicebakes.com
X-WR-CALDESC:Évènements pour Candice Bakes
REFRESH-INTERVAL;VALUE=DURATION:PT1H
X-Robots-Tag:noindex
X-PUBLISHED-TTL:PT1H
BEGIN:VTIMEZONE
TZID:Europe/Paris
BEGIN:DAYLIGHT
TZOFFSETFROM:+0100
TZOFFSETTO:+0200
TZNAME:CEST
DTSTART:20250330T010000
END:DAYLIGHT
BEGIN:STANDARD
TZOFFSETFROM:+0200
TZOFFSETTO:+0100
TZNAME:CET
DTSTART:20251026T010000
END:STANDARD
BEGIN:DAYLIGHT
TZOFFSETFROM:+0100
TZOFFSETTO:+0200
TZNAME:CEST
DTSTART:20260329T010000
END:DAYLIGHT
BEGIN:STANDARD
TZOFFSETFROM:+0200
TZOFFSETTO:+0100
TZNAME:CET
DTSTART:20261025T010000
END:STANDARD
BEGIN:DAYLIGHT
TZOFFSETFROM:+0100
TZOFFSETTO:+0200
TZNAME:CEST
DTSTART:20270328T010000
END:DAYLIGHT
BEGIN:STANDARD
TZOFFSETFROM:+0200
TZOFFSETTO:+0100
TZNAME:CET
DTSTART:20271031T010000
END:STANDARD
END:VTIMEZONE
BEGIN:VEVENT
DTSTART;TZID=Europe/Paris:20260517T143000
DTEND;TZID=Europe/Paris:20260517T173000
DTSTAMP:20260421T234633
CREATED:20260224T084830Z
LAST-MODIFIED:20260224T084830Z
UID:3877-1779028200-1779039000@candicebakes.com
SUMMARY:Atelier Adulte - Éclairs au chocolat
DESCRIPTION:Si vous êtes un fan inconditionnel du chocolat et de la pâte à chou\, vous avez sonné à la bonne porte ! \nJe vous propose un nouvel atelier éclairs au chocolat\, dans lequel vous apprendrez toutes les astuces pour maitriser ce grand classique\, avec mon petit twist personnel 🙂 \nCet atelier est accessible aux débutants comme aux plus confirmés en pâtisserie\, à partir de 14 ans. \nVous apprendrez : \n\nà réaliser une pâte à chou dans les règles de l’art\,\nà pocher votre pâte à choux pour avoir des éclairs réguliers\nles astuces de cuisson\,\nà réaliser une crème au chocolat noir\,\nà réaliser un crumble cacao pour apporter du croustillant et décorer vos éclairs\,\nà garnir\, glacer et décorer vos éclairs\n\nUn glaçage miroir cacao sera préparé en amont pour être dans les temps mais il sera expliqué. \nCe que comprend le prix : \n\nPrix pour un adulte\nVous repartez avec vos éclairs et la recette\nTout est fourni\, vous n’avez plus qu’à réserver votre place et venir avec votre bonne humeur 😉\n\nSi vous avez une question\, vous pouvez me contacter par email contact@candicebakes.com ou au 06 29 51 52 78 \n\nEn réservant\, vous acceptez les conditions générales de ventes atelier disponibles sur le site internet : https://candicebakes.com/conditions-generales-de-vente-cgv-ateliers/
URL:https://candicebakes.com/atelier/atelier-adulte-eclairs-au-chocolat/
LOCATION:Atelier Sainte-Marguerite\, 54 rue des Anémones\, Sainte-Marguerite\, 88100\, France
ATTACH;FMTTYPE=image/webp:https://candicebakes.com/wp-content/uploads/2026/02/eclairs-chocolat-1.webp
END:VEVENT
END:VCALENDAR