BEGIN:VCALENDAR
VERSION:2.0
PRODID:-//Candice Bakes - ECPv6.15.20//NONSGML v1.0//EN
CALSCALE:GREGORIAN
METHOD:PUBLISH
X-WR-CALNAME:Candice Bakes
X-ORIGINAL-URL:https://candicebakes.com
X-WR-CALDESC:Évènements pour Candice Bakes
REFRESH-INTERVAL;VALUE=DURATION:PT1H
X-Robots-Tag:noindex
X-PUBLISHED-TTL:PT1H
BEGIN:VTIMEZONE
TZID:Europe/Paris
BEGIN:DAYLIGHT
TZOFFSETFROM:+0100
TZOFFSETTO:+0200
TZNAME:CEST
DTSTART:20250330T010000
END:DAYLIGHT
BEGIN:STANDARD
TZOFFSETFROM:+0200
TZOFFSETTO:+0100
TZNAME:CET
DTSTART:20251026T010000
END:STANDARD
BEGIN:DAYLIGHT
TZOFFSETFROM:+0100
TZOFFSETTO:+0200
TZNAME:CEST
DTSTART:20260329T010000
END:DAYLIGHT
BEGIN:STANDARD
TZOFFSETFROM:+0200
TZOFFSETTO:+0100
TZNAME:CET
DTSTART:20261025T010000
END:STANDARD
BEGIN:DAYLIGHT
TZOFFSETFROM:+0100
TZOFFSETTO:+0200
TZNAME:CEST
DTSTART:20270328T010000
END:DAYLIGHT
BEGIN:STANDARD
TZOFFSETFROM:+0200
TZOFFSETTO:+0100
TZNAME:CET
DTSTART:20271031T010000
END:STANDARD
END:VTIMEZONE
BEGIN:VEVENT
DTSTART;TZID=Europe/Paris:20260531T100000
DTEND;TZID=Europe/Paris:20260531T120000
DTSTAMP:20260421T222611
CREATED:20260115T150734Z
LAST-MODIFIED:20260115T150734Z
UID:3701-1780221600-1780228800@candicebakes.com
SUMMARY:Atelier Adulte DUO - Tarte Rose Framboise Litchi - Spécial Fête des Mères
DESCRIPTION:Et si vous passiez un moment à deux\, pour célébrer les mamans ? \nJe vous propose un atelier duo (à partir de 14 ans) pour réaliser cette délicieuse tarte Rose Framboise Litchi\, avec ces différentes saveurs et textures ! \nGourmandise\, fraîcheur et légèreté seront au rendez-vous ! \nL’atelier DUO est adapté aux adultes débutants et plus expérimentés à partir de 14 ans. \nDescription de l’atelier : \nVous allez apprendre : \n\n\n\nà réaliser une pâte sablée dans les règles de l’art\,\nà réaliser un crémeux litchi tout doux\,\nà confectionner un biscuit moelleux (présence d’amande\, me prévenir pour une version sans fruits à coque)\nà réaliser une crème à pocher à la rose et à la framboise\,\nà monter votre tarte et à la décorer (la poche à douille sera de sortie !)\n\n\n\n\nVous repartez avec votre tarte Rose Framboise Litchi\nPrix pour 1 duo ( à partir de 14 ans)\nTout est fourni\, vous n’avez plus qu’à réserver votre place et venir avec votre bonne humeur \nSi vous avez une question\, vous pouvez me contacter par email contact@candicebakes.com ou au 06 29 51 52 78\nEn réservant\, vous acceptez les conditions générales de ventes ateliers : https://candicebakes.com/conditions-generales-de-vente-cgv-ateliers/
URL:https://candicebakes.com/atelier/atelier-adulte-duo-tarte-rose-framboise-litchi/
LOCATION:Atelier Sainte-Marguerite\, 54 rue des Anémones\, Sainte-Marguerite\, 88100\, France
ATTACH;FMTTYPE=image/webp:https://candicebakes.com/wp-content/uploads/2025/08/Tarte-Rose-Framboise-Litchi-e1755102135192.webp
END:VEVENT
END:VCALENDAR