BEGIN:VCALENDAR
VERSION:2.0
PRODID:-//Candice Bakes - ECPv6.15.20//NONSGML v1.0//EN
CALSCALE:GREGORIAN
METHOD:PUBLISH
X-ORIGINAL-URL:https://candicebakes.com
X-WR-CALDESC:Évènements pour Candice Bakes
REFRESH-INTERVAL;VALUE=DURATION:PT1H
X-Robots-Tag:noindex
X-PUBLISHED-TTL:PT1H
BEGIN:VTIMEZONE
TZID:Europe/Paris
BEGIN:DAYLIGHT
TZOFFSETFROM:+0100
TZOFFSETTO:+0200
TZNAME:CEST
DTSTART:20250330T010000
END:DAYLIGHT
BEGIN:STANDARD
TZOFFSETFROM:+0200
TZOFFSETTO:+0100
TZNAME:CET
DTSTART:20251026T010000
END:STANDARD
BEGIN:DAYLIGHT
TZOFFSETFROM:+0100
TZOFFSETTO:+0200
TZNAME:CEST
DTSTART:20260329T010000
END:DAYLIGHT
BEGIN:STANDARD
TZOFFSETFROM:+0200
TZOFFSETTO:+0100
TZNAME:CET
DTSTART:20261025T010000
END:STANDARD
BEGIN:DAYLIGHT
TZOFFSETFROM:+0100
TZOFFSETTO:+0200
TZNAME:CEST
DTSTART:20270328T010000
END:DAYLIGHT
BEGIN:STANDARD
TZOFFSETFROM:+0200
TZOFFSETTO:+0100
TZNAME:CET
DTSTART:20271031T010000
END:STANDARD
END:VTIMEZONE
BEGIN:VEVENT
DTSTART;TZID=Europe/Paris:20260711T143000
DTEND;TZID=Europe/Paris:20260711T183000
DTSTAMP:20260422T015856
CREATED:20260326T111118Z
LAST-MODIFIED:20260326T112515Z
UID:3976-1783780200-1783794600@candicebakes.com
SUMMARY:Atelier Adulte – Saint Honoré Vanille Chocolat
DESCRIPTION:Vous souhaitez apprendre à réaliser un Saint Honoré revisité aux saveurs vanille chocolat ? \nFaites le plein de techniques avec les différentes textures et apprenez à pocher pour avoir un visuel bluffant ! Effet wahou garanti ! \nVous repartez avec votre Saint Honoré Vanille Chocolat pour 4-6 personnes et la recette. \nL’ atelier est adapté aux adultes débutants et plus expérimentés à partir de 14 ans. \nAu programme de cet atelier gourmand : \nVous réaliserez : \n\nun feuilletage croustillant express (et gourmand !)\nun croustillant praliné\,\ndes petits choux au craquelin cacao\,\n2 types de crèmes vanille aux textures et tenues différentes\,\nun gel cacao\,\nle montage de votre St honoré\nle pochage caractéristique du St Honoré\n\nJe vous donnerai toutes les astuces d’organisation pour refaire votre Saint Honoré Vanille Chocolat chez vous. \nDurée : 4h-4h30 \n\nPrix pour un adulte\nTout est fourni\, vous n’avez plus qu’à réserver votre place et venir avec votre bonne humeur \nSi vous avez une question\, vous pouvez me contacter par email contact@candicebakes.com ou au 06 29 51 52 78\nEn réservant\, vous acceptez les conditions générales de ventes atelier disponible sur le site internet https://candicebakes.com/conditions-generales-de-vente-cgv-ateliers/\nAtelier en petit comité : 4 personnes maximum par session
URL:https://candicebakes.com/atelier/atelier-adulte-saint-honore-vanille-chocolat/
LOCATION:Atelier Sainte-Marguerite\, 54 rue des Anémones\, Sainte-Marguerite\, 88100\, France
ATTACH;FMTTYPE=image/webp:https://candicebakes.com/wp-content/uploads/2025/01/st-ho-scaled.webp
END:VEVENT
BEGIN:VEVENT
DTSTART;TZID=Europe/Paris:20260713T143000
DTEND;TZID=Europe/Paris:20260713T173000
DTSTAMP:20260422T015856
CREATED:20260410T144555Z
LAST-MODIFIED:20260410T144734Z
UID:4056-1783953000-1783963800@candicebakes.com
SUMMARY:Atelier Adulte - Tarte Revisitée - Pistache fleur d'oranger
DESCRIPTION:Lors de cet atelier très gourmand\, vous apprendrez à réaliser une tarte moderne et raffinée qui allie la subtilité de le fleur d’oranger et la gourmandise de la pistache. \nIl est adapté aux adultes débutants et plus expérimentés à partir de 14 ans. \nDescription de l’atelier : \nVous apprendrez à réaliser : \n\nune pâte sablée croustillante\nà foncer votre pâte sablée dans un cercle\nune crème de pistache\nune ganache pistache\nGanache montée à la fleur d’oranger\ndes techniques de pochage et dressage pour un visuel professionnel\n\nUn praliné pistache sera préparé en amont pout tenir dans le temps imparti. \n\nPetit comité pour un maximum de qualité : 4 places maximum.\nVous repartez avec votre tarte pistache fleur d’oranger 4 personnes et la recette.\n\n  \n\nPrix pour 1 adulte\nTout est fourni\, vous n’avez plus qu’à réserver votre place et venir avec votre bonne humeur \nSi vous avez une question\, vous pouvez me contacter par email contact@candicebakes.com ou au 06 29 51 52 78\nEn réservant\, vous acceptez les conditions générales de ventes atelier disponibles sur le site internet : https://candicebakes.com/conditions-generales-de-vente-cgv-ateliers/\nL’atelier est maintenu avec au 2 participants.\nLes tartelettes sur la photo ont été réalisées par des participants en atelier 😉
URL:https://candicebakes.com/atelier/tarte-revisitee-pistache-fleur-doranger/
LOCATION:Atelier Sainte-Marguerite\, 54 rue des Anémones\, Sainte-Marguerite\, 88100\, France
ATTACH;FMTTYPE=image/webp:https://candicebakes.com/wp-content/uploads/2026/04/Pistache-fleur-d_oranger.webp
END:VEVENT
BEGIN:VEVENT
DTSTART;TZID=Europe/Paris:20260716T100000
DTEND;TZID=Europe/Paris:20260716T120000
DTSTAMP:20260422T015856
CREATED:20260115T152040Z
LAST-MODIFIED:20260419T154145Z
UID:3699-1784196000-1784203200@candicebakes.com
SUMMARY:Atelier Adulte - Macarons Vanille Praliné
DESCRIPTION:Plongez dans l’univers délicat et gourmand des macarons vanille praliné lors de cet atelier unique ! \nApprenez les techniques professionnelles pour réaliser ces petites douceurs emblématiques qui séduisent autant par leur goût que par leur esthétique. \nAu programme\, vous apprendrez :\n\ntoutes les techniques et astuces pour avoir de belles coques et une jolie collerette !\nà macaronner correctement\nà utiliser une poche à douille et à pocher vos macarons\nà réaliser une ganache montée à la vanille pour garnir vos macarons\nà faire une belle émulsion pour réaliser votre ganache montée\nà monter correctement une ganache\n\nLe praliné sera déjà prêt afin de respecter les 2h-2h30 d’atelier. \nCet atelier adulte est accessible à tous\, que vous soyez débutant ou pâtissier amateur souhaitant perfectionner votre technique. A partir de 14 ans. \n\nVous repartez avec vos macarons vanille praliné\nTout est fourni\, vous n’avez plus qu’à réserver votre place et venir avec votre bonne humeur 😉\nUne question ? Vous pouvez me contacter par email contact@candicebakes.com ou au 06 29 51 52 78\nEn réservant\, vous acceptez les conditions générales de ventes ateliers : https://candicebakes.com/conditions-generales-de-vente-cgv-ateliers/\n\n📍 Réservez votre place dès maintenant !
URL:https://candicebakes.com/atelier/atelier-adulte-macarons-vanille-praline/
LOCATION:Atelier Sainte-Marguerite\, 54 rue des Anémones\, Sainte-Marguerite\, 88100\, France
ATTACH;FMTTYPE=image/webp:https://candicebakes.com/wp-content/uploads/2024/11/macaron-vanille-e1755102678772.webp
END:VEVENT
BEGIN:VEVENT
DTSTART;TZID=Europe/Paris:20260718T143000
DTEND;TZID=Europe/Paris:20260718T173000
DTSTAMP:20260422T015856
CREATED:20260326T120722Z
LAST-MODIFIED:20260326T120722Z
UID:3994-1784385000-1784395800@candicebakes.com
SUMMARY:Atelier Adulte - Tarte Revisitée - Framboise Chocolat blond
DESCRIPTION:Lors de cet atelier 100 % gourmand\, vous apprendrez à réaliser une tarte moderne et raffinée qui allie la fraîcheur des framboises à la douceur caramélisée du chocolat blond Dulcey. \nIl est adapté aux adultes débutants et plus expérimentés à partir de 14 ans. \nDescription de l’atelier : \nVous apprendrez à réaliser : \n\nune pâte sablée croustillante\nune compotée de framboise riche en fruits\nune crème d’amande\nun croustillant au chocolat blond\nGanache montée au chocolat blond (aussi appelé Dulcey)\ndes techniques de pochage et dressage pour un visuel professionnel\n\n\nPetit comité pour un maximum de qualité : 4 places maximum.\nVous repartez avec votre tarte framboise chocolat blond 4 personnes et la recette.\n\n  \n\nPrix pour 1 adulte\nTout est fourni\, vous n’avez plus qu’à réserver votre place et venir avec votre bonne humeur \nSi vous avez une question\, vous pouvez me contacter par email contact@candicebakes.com ou au 06 29 51 52 78\nEn réservant\, vous acceptez les conditions générales de ventes atelier disponibles sur le site internet : https://candicebakes.com/conditions-generales-de-vente-cgv-ateliers/\nL’atelier est maintenu avec au 3 participants.
URL:https://candicebakes.com/atelier/atelier-adulte-tarte-framboise-chocolat-blond/
LOCATION:Atelier Sainte-Marguerite\, 54 rue des Anémones\, Sainte-Marguerite\, 88100\, France
ATTACH;FMTTYPE=image/webp:https://candicebakes.com/wp-content/uploads/2025/04/Tarte-Dulcey-framboise.webp
END:VEVENT
BEGIN:VEVENT
DTSTART;TZID=Europe/Paris:20260719T143000
DTEND;TZID=Europe/Paris:20260719T173000
DTSTAMP:20260422T015856
CREATED:20260402T060044Z
LAST-MODIFIED:20260402T060335Z
UID:4003-1784471400-1784482200@candicebakes.com
SUMMARY:Atelier Adulte - Mini Paris-Brest
DESCRIPTION:Plongez dans l’univers gourmand des mini Paris-Brest lors de cet atelier unique et tellement irrésistible ! \nVous apprendrez les techniques professionnelles pour réaliser ces petites pâtisseries emblématiques\, alliant une pâte à choux légère et une crème pralinée onctueuse. \nAu programme\, vous apprendrez :\n✔️ À réaliser une pâte à choux parfaitement développée et dorée✔️ Les astuces pour un pochage régulier et élégant✔️ À maîtriser la cuisson pour des mini paris-brest bien gonflés et croustillants✔️ À préparer une délicieuse crème pralinée onctueuse\, moins beurrée que la crème mousseline traditionnelle\,✔️ À garnir\,  assembler et décorer vos mini Paris-Brest avec finesse. \nCet atelier adulte est accessible à tous\, que vous soyez débutant ou pâtissier amateur souhaitant perfectionner votre technique. \nLe prix est pour 1 adulte\, à partir de 14 ans. \n📦 Vous repartez avec vos mini Paris-Brest\, la recette et tout le savoir-faire pour les refaire chez vous ! \n🧑‍🍳 Tout est fourni\, il ne vous reste plus qu’à réserver votre place et venir avec votre bonne humeur 😉 \n📩 Une question ? Contactez-moi par email : contact@candicebakes.com ou au 06 29 51 52 78.📍 Réservez votre place dès maintenant ! \n\nEn réservant\, vous acceptez les conditions générales de ventes ateliers : https://candicebakes.com/conditions-generales-de-vente-cgv-ateliers/
URL:https://candicebakes.com/atelier/atelier-adulte-mini-paris-brest-3/
LOCATION:Atelier Sainte-Marguerite\, 54 rue des Anémones\, Sainte-Marguerite\, 88100\, France
ATTACH;FMTTYPE=image/webp:https://candicebakes.com/wp-content/uploads/2025/03/Mini-Paris-Brest-1.webp
END:VEVENT
END:VCALENDAR