BEGIN:VCALENDAR
VERSION:2.0
PRODID:-//Candice Bakes - ECPv6.15.20//NONSGML v1.0//EN
CALSCALE:GREGORIAN
METHOD:PUBLISH
X-WR-CALNAME:Candice Bakes
X-ORIGINAL-URL:https://candicebakes.com
X-WR-CALDESC:Évènements pour Candice Bakes
REFRESH-INTERVAL;VALUE=DURATION:PT1H
X-Robots-Tag:noindex
X-PUBLISHED-TTL:PT1H
BEGIN:VTIMEZONE
TZID:Europe/Paris
BEGIN:DAYLIGHT
TZOFFSETFROM:+0100
TZOFFSETTO:+0200
TZNAME:CEST
DTSTART:20250330T010000
END:DAYLIGHT
BEGIN:STANDARD
TZOFFSETFROM:+0200
TZOFFSETTO:+0100
TZNAME:CET
DTSTART:20251026T010000
END:STANDARD
BEGIN:DAYLIGHT
TZOFFSETFROM:+0100
TZOFFSETTO:+0200
TZNAME:CEST
DTSTART:20260329T010000
END:DAYLIGHT
BEGIN:STANDARD
TZOFFSETFROM:+0200
TZOFFSETTO:+0100
TZNAME:CET
DTSTART:20261025T010000
END:STANDARD
BEGIN:DAYLIGHT
TZOFFSETFROM:+0100
TZOFFSETTO:+0200
TZNAME:CEST
DTSTART:20270328T010000
END:DAYLIGHT
BEGIN:STANDARD
TZOFFSETFROM:+0200
TZOFFSETTO:+0100
TZNAME:CET
DTSTART:20271031T010000
END:STANDARD
END:VTIMEZONE
BEGIN:VEVENT
DTSTART;TZID=Europe/Paris:20260503T143000
DTEND;TZID=Europe/Paris:20260503T163000
DTSTAMP:20260421T234553
CREATED:20260224T154206Z
LAST-MODIFIED:20260421T181249Z
UID:3885-1777818600-1777825800@candicebakes.com
SUMMARY:Atelier Adulte - Snickers Maison
DESCRIPTION:Vous êtes fan de l’association chocolat-caramel-cacahuètes et vous voulez apprendre à réaliser des barres chocolatées façon snickers ? \nCet atelier est pour vous ! \nUn goûter vraiment irrésistible\, extrêmement gourmand ! \nCet atelier adulte est accessible à tous\, que vous soyez débutant ou pâtissier amateur souhaitant perfectionner votre technique. A partir de 14 ans. \nDescription de l’atelier \nVous apprendrez : \n\n\n\nà réaliser un praliné cacahuètes\,\nà réaliser une base croustillante au chocolat au lait\,\nà caraméliser des cacahuètes très facilement\,\nà monter\, enrober et décorer vos barres chocolatées.\n\n\n\nUn caramel mou sera fait en amont pour respecter le timing mais il sera expliqué 🙂 \n🎁 Vous repartez avec vos snickers maison et la recette pour les refaire à la maison ! \n💰 Prix pour un adulte à partir de 14 ans \n📍 Tout est fourni\, vous n’avez plus qu’à réserver votre place 😉 \n📩 Une question ? Contactez-moi par email contact@candicebakes.com ou au 06 29 51 52 78 \n\nEn réservant\, vous acceptez les conditions générales de ventes atelier disponibles sur le site internet : https://candicebakes.com/conditions-generales-de-vente-cgv-ateliers/\n\nDurée : 2h-2h30
URL:https://candicebakes.com/atelier/atelier-adulte-snickers-maison/
LOCATION:Atelier Sainte-Marguerite\, 54 rue des Anémones\, Sainte-Marguerite\, 88100\, France
ATTACH;FMTTYPE=image/webp:https://candicebakes.com/wp-content/uploads/2026/02/snickers-maison.webp
END:VEVENT
BEGIN:VEVENT
DTSTART;TZID=Europe/Paris:20260516T093000
DTEND;TZID=Europe/Paris:20260516T120000
DTSTAMP:20260421T234553
CREATED:20251226T110518Z
LAST-MODIFIED:20260410T080947Z
UID:3638-1778923800-1778932800@candicebakes.com
SUMMARY:Atelier Adulte - Macarons Vanille Cassis Framboise
DESCRIPTION:Vous avez envie d’apprendre à réaliser de délicieux macarons dans les règles de l’art ? \nJe vous propose une association vanille\, cassis et framboise pour un macaron doux et acidulé. \nVous verrez la méthode de la meringue italienne. Vous verrez\, vos petits macarons seront à tomber ! \nCet atelier est à partir de 14 ans. \nDescription de l’atelier \nVous apprendrez : \n\nà réaliser une meringue italienne\,\nun appareil à macaron avec la technique de macaronage\,\ntoutes les étapes pour réussir vos macarons\,\nles astuces pour avoir des coques lisses et une belle collerette\,\nà utiliser une poche à douille pour pocher les macarons et leur garniture\nà réaliser une composée cassis-framboise pleine de pep’s\n\nLe petit + :  \n\nvous pourrez choisir la couleur de vos macarons\nune crème légère à la vanille sera déjà préparée en amont\, pour encore plus de gourmandise et de douceur !\n\n🎁 Vous repartez avec vos macarons et la recette pour les refaire à la maison ! \n💰 Prix pour un  adulte (à partir de 14 ans) \n📍 Tout est fourni\, vous n’avez plus qu’à réserver votre place 😉 \n📩 Une question ? Contactez-moi par email contact@candicebakes.com ou au 06 29 51 52 78 \n\nEn réservant\, vous acceptez les conditions générales de ventes atelier disponible sur le site internet : https://candicebakes.com/conditions-generales-de-vente-cgv-ateliers/
URL:https://candicebakes.com/atelier/atelier-adulte-macarons-vanille-cassis-framboise-2/
LOCATION:Atelier Sainte-Marguerite\, 54 rue des Anémones\, Sainte-Marguerite\, 88100\, France
ATTACH;FMTTYPE=image/webp:https://candicebakes.com/wp-content/uploads/2025/08/MACARONS-CASSIS-FRAMBOISE.webp
END:VEVENT
BEGIN:VEVENT
DTSTART;TZID=Europe/Paris:20260527T140000
DTEND;TZID=Europe/Paris:20260527T163000
DTSTAMP:20260421T234553
CREATED:20260326T094612Z
LAST-MODIFIED:20260326T095607Z
UID:3957-1779890400-1779899400@candicebakes.com
SUMMARY:Atelier Adulte - Macarons Passion Framboise
DESCRIPTION:Vous avez envie d’apprendre à réaliser de délicieux macarons dans les règles de l’art ? \nJe vous propose une association pleine de pep’s. Amateurs de saveurs acidulées\, vous serez ravis ! \nCet atelier est à partir de 14 ans. \nDescription de l’atelier \nVous apprendrez : \n\nà réaliser une meringue italienne\,\nun appareil à macaron avec la technique de macaronage\,\ntoutes les étapes pour réussir vos macarons\,\nles astuces pour avoir des coques lisses et une belle collerette\,\nà utiliser une poche à douille pour pocher les macarons et leur garniture\nà réaliser une compotée de framboise et un crémeux passion.\n\nLe petit + :  \n\nvous pourrez choisir la couleur de vos macarons\n\n🎁 Vous repartez avec vos macarons et la recette pour les refaire à la maison ! \n💰 Prix pour un  adulte (à partir de 14 ans) \n📍 Tout est fourni\, vous n’avez plus qu’à réserver votre place 😉 \n📩 Une question ? Contactez-moi par email contact@candicebakes.com ou au 06 29 51 52 78 \n\nEn réservant\, vous acceptez les conditions générales de ventes atelier disponible sur le site internet : https://candicebakes.com/conditions-generales-de-vente-cgv-ateliers/
URL:https://candicebakes.com/atelier/atelier-adulte-macarons-passion-framboise/
LOCATION:Atelier Sainte-Marguerite\, 54 rue des Anémones\, Sainte-Marguerite\, 88100\, France
ATTACH;FMTTYPE=image/jpeg:https://candicebakes.com/wp-content/uploads/2026/03/P1727659-scaled.jpg
END:VEVENT
BEGIN:VEVENT
DTSTART;TZID=Europe/Paris:20260531T100000
DTEND;TZID=Europe/Paris:20260531T120000
DTSTAMP:20260421T234553
CREATED:20260115T150734Z
LAST-MODIFIED:20260115T150734Z
UID:3701-1780221600-1780228800@candicebakes.com
SUMMARY:Atelier Adulte DUO - Tarte Rose Framboise Litchi - Spécial Fête des Mères
DESCRIPTION:Et si vous passiez un moment à deux\, pour célébrer les mamans ? \nJe vous propose un atelier duo (à partir de 14 ans) pour réaliser cette délicieuse tarte Rose Framboise Litchi\, avec ces différentes saveurs et textures ! \nGourmandise\, fraîcheur et légèreté seront au rendez-vous ! \nL’atelier DUO est adapté aux adultes débutants et plus expérimentés à partir de 14 ans. \nDescription de l’atelier : \nVous allez apprendre : \n\n\n\nà réaliser une pâte sablée dans les règles de l’art\,\nà réaliser un crémeux litchi tout doux\,\nà confectionner un biscuit moelleux (présence d’amande\, me prévenir pour une version sans fruits à coque)\nà réaliser une crème à pocher à la rose et à la framboise\,\nà monter votre tarte et à la décorer (la poche à douille sera de sortie !)\n\n\n\n\nVous repartez avec votre tarte Rose Framboise Litchi\nPrix pour 1 duo ( à partir de 14 ans)\nTout est fourni\, vous n’avez plus qu’à réserver votre place et venir avec votre bonne humeur \nSi vous avez une question\, vous pouvez me contacter par email contact@candicebakes.com ou au 06 29 51 52 78\nEn réservant\, vous acceptez les conditions générales de ventes ateliers : https://candicebakes.com/conditions-generales-de-vente-cgv-ateliers/
URL:https://candicebakes.com/atelier/atelier-adulte-duo-tarte-rose-framboise-litchi/
LOCATION:Atelier Sainte-Marguerite\, 54 rue des Anémones\, Sainte-Marguerite\, 88100\, France
ATTACH;FMTTYPE=image/webp:https://candicebakes.com/wp-content/uploads/2025/08/Tarte-Rose-Framboise-Litchi-e1755102135192.webp
END:VEVENT
END:VCALENDAR