BEGIN:VCALENDAR
VERSION:2.0
PRODID:-//Candice Bakes - ECPv6.15.20//NONSGML v1.0//EN
CALSCALE:GREGORIAN
METHOD:PUBLISH
X-WR-CALNAME:Candice Bakes
X-ORIGINAL-URL:https://candicebakes.com
X-WR-CALDESC:Évènements pour Candice Bakes
REFRESH-INTERVAL;VALUE=DURATION:PT1H
X-Robots-Tag:noindex
X-PUBLISHED-TTL:PT1H
BEGIN:VTIMEZONE
TZID:Europe/Paris
BEGIN:DAYLIGHT
TZOFFSETFROM:+0100
TZOFFSETTO:+0200
TZNAME:CEST
DTSTART:20250330T010000
END:DAYLIGHT
BEGIN:STANDARD
TZOFFSETFROM:+0200
TZOFFSETTO:+0100
TZNAME:CET
DTSTART:20251026T010000
END:STANDARD
BEGIN:DAYLIGHT
TZOFFSETFROM:+0100
TZOFFSETTO:+0200
TZNAME:CEST
DTSTART:20260329T010000
END:DAYLIGHT
BEGIN:STANDARD
TZOFFSETFROM:+0200
TZOFFSETTO:+0100
TZNAME:CET
DTSTART:20261025T010000
END:STANDARD
BEGIN:DAYLIGHT
TZOFFSETFROM:+0100
TZOFFSETTO:+0200
TZNAME:CEST
DTSTART:20270328T010000
END:DAYLIGHT
BEGIN:STANDARD
TZOFFSETFROM:+0200
TZOFFSETTO:+0100
TZNAME:CET
DTSTART:20271031T010000
END:STANDARD
END:VTIMEZONE
BEGIN:VEVENT
DTSTART;TZID=Europe/Paris:20260322T143000
DTEND;TZID=Europe/Paris:20260322T183000
DTSTAMP:20260421T222917
CREATED:20251226T103646Z
LAST-MODIFIED:20251226T103646Z
UID:3632-1774189800-1774204200@candicebakes.com
SUMMARY:Atelier Adulte – St Honoré Vanille Chocolat
DESCRIPTION:Vous souhaitez apprendre à réaliser un Saint honoré revisité aux saveurs vanille chocolat ? \nFaites le plein de techniques avec les différentes textures et apprenez à pocher pour avoir un visuel bluffant ! Effet wahou garanti ! \nVous repartez avec votre St Honoré Vanille Chocolat pour 4-6 personnes et la recette. \nL’ atelier est adapté aux adultes débutants et plus expérimentés à partir de 14 ans. \nAu programme de cet atelier gourmand : \nVous réaliserez : \n\nun feuilletage croustillant express (et gourmand !)\nun croustillant praliné\,\ndes petits choux au craquelin cacao\,\n2 types de crèmes vanille aux textures et tenues différentes\,\nun gel cacao\,\nle montage de votre St honoré\nle pochage caractéristique du St Honoré\n\nJe vous donnerai toutes les astuces d’organisation pour refaire votre St Honoré Vanille Chocolat chez vous. \nDurée : 4h-4h30 \n\nPrix pour un adulte\nTout est fourni\, vous n’avez plus qu’à réserver votre place et venir avec votre bonne humeur \nSi vous avez une question\, vous pouvez me contacter par email contact@candicebakes.com ou au 06 29 51 52 78\nEn réservant\, vous acceptez les conditions générales de ventes atelier disponible sur le site internet https://candicebakes.com/conditions-generales-de-vente-cgv-ateliers/\nAtelier en petit comité : 4 personnes maximum par session
URL:https://candicebakes.com/atelier/atelier-adulte-st-honore-vanille-chocolat/
LOCATION:Atelier Sainte-Marguerite\, 54 rue des Anémones\, Sainte-Marguerite\, 88100\, France
ATTACH;FMTTYPE=image/webp:https://candicebakes.com/wp-content/uploads/2025/01/st-ho-scaled.webp
END:VEVENT
END:VCALENDAR