BEGIN:VCALENDAR
VERSION:2.0
PRODID:-//Candice Bakes - ECPv6.15.20//NONSGML v1.0//EN
CALSCALE:GREGORIAN
METHOD:PUBLISH
X-WR-CALNAME:Candice Bakes
X-ORIGINAL-URL:https://candicebakes.com
X-WR-CALDESC:Évènements pour Candice Bakes
REFRESH-INTERVAL;VALUE=DURATION:PT1H
X-Robots-Tag:noindex
X-PUBLISHED-TTL:PT1H
BEGIN:VTIMEZONE
TZID:Europe/Paris
BEGIN:DAYLIGHT
TZOFFSETFROM:+0100
TZOFFSETTO:+0200
TZNAME:CEST
DTSTART:20250330T010000
END:DAYLIGHT
BEGIN:STANDARD
TZOFFSETFROM:+0200
TZOFFSETTO:+0100
TZNAME:CET
DTSTART:20251026T010000
END:STANDARD
BEGIN:DAYLIGHT
TZOFFSETFROM:+0100
TZOFFSETTO:+0200
TZNAME:CEST
DTSTART:20260329T010000
END:DAYLIGHT
BEGIN:STANDARD
TZOFFSETFROM:+0200
TZOFFSETTO:+0100
TZNAME:CET
DTSTART:20261025T010000
END:STANDARD
BEGIN:DAYLIGHT
TZOFFSETFROM:+0100
TZOFFSETTO:+0200
TZNAME:CEST
DTSTART:20270328T010000
END:DAYLIGHT
BEGIN:STANDARD
TZOFFSETFROM:+0200
TZOFFSETTO:+0100
TZNAME:CET
DTSTART:20271031T010000
END:STANDARD
END:VTIMEZONE
BEGIN:VEVENT
DTSTART;TZID=Europe/Paris:20260422T100000
DTEND;TZID=Europe/Paris:20260422T120000
DTSTAMP:20260422T012512
CREATED:20260223T153936Z
LAST-MODIFIED:20260223T153936Z
UID:3869-1776852000-1776859200@candicebakes.com
SUMMARY:Atelier Parent Enfant - Oursons Guimauve
DESCRIPTION:Vous avez envie de pâtisser en duo avec votre enfant (ou nièce\, petit-fils\, etc.) et de réaliser de délicieux oursons guimauve ? \nC’est parti pour un atelier irrésistible ! \nCet atelier est conçu pour un duo adulte/enfant à partir de 7 ans. \nDescription de l’atelier \nVous apprendrez : \n\n\n\ntoutes les étapes et les astuces pour réussir vos oursons\nà réaliser une guimauve bien fondante\nà pocher la guimauve\nà manipuler et travailler le chocolat au lait pour avoir de beaux oursons\n\n\n\n\nPetit comité pour un maximum de qualité : 4 duos maximum\n\n🎁 Vous repartez avec vos oursons et la recette pour les refaire à la maison ! \n💰 Prix pour un duo adulte/enfant (jusqu’à 13 ans) \n📍 Tout est fourni\, vous n’avez plus qu’à réserver votre place 😉 \n📩 Une question ? Contactez-moi par email contact@candicebakes.com ou au 06 29 51 52 78 \n\nEn réservant\, vous acceptez les conditions générales de ventes atelier disponibles sur le site internet : https://candicebakes.com/conditions-generales-de-vente-cgv-ateliers/
URL:https://candicebakes.com/atelier/atelier-parent-enfant-oursons-guimauve-4/
LOCATION:Atelier Sainte-Marguerite\, 54 rue des Anémones\, Sainte-Marguerite\, 88100\, France
ATTACH;FMTTYPE=image/webp:https://candicebakes.com/wp-content/uploads/2025/11/ourson-guimauve.webp
END:VEVENT
BEGIN:VEVENT
DTSTART;TZID=Europe/Paris:20260422T150000
DTEND;TZID=Europe/Paris:20260422T170000
DTSTAMP:20260422T012512
CREATED:20251119T133308Z
LAST-MODIFIED:20260417T125300Z
UID:3516-1776870000-1776877200@candicebakes.com
SUMMARY:Atelier Enfant - Mini Donuts au four
DESCRIPTION:Votre enfant adore pâtisser ? Vous avez sonné à la bonne porte ! \nVotre enfant réalisera des mini donuts au four\, avec des glaçages et des décorations à gogo ! \nCet atelier est conçu pour un enfant entre 8 ans et 13 ans. \nAu programme\, votre enfant apprendra : \n\nà réaliser un appareil à mini donuts au four\, moins gras que le version classique. La texture est similaire à celle de la madeleine.\nles astuces pour avoir des gâteaux moelleux\,\ncomment s’organiser quand on pâtisse à la maison\,\nà préparer différents glaçage à base de pulpe de fruits et de chocolat\,\nà décorer ses mini donuts\n\nVotre enfant repart avec ses mini donuts et la recette. \n💰 Prix pour un enfant (8- 13 ans) \n📍 Tout est fourni\, vous n’avez plus qu’à réserver sa place 😉 \n📩 Une question ? Contactez-moi par email contact@candicebakes.com ou au 06 29 51 52 78 \n\nEn réservant\, vous acceptez les conditions générales de ventes atelier disponibles sur le site internet : https://candicebakes.com/conditions-generales-de-vente-cgv-ateliers/\nL’atelier est maintenu avec 3 participants.
URL:https://candicebakes.com/atelier/mini-donuts-au-four/
LOCATION:Atelier Sainte-Marguerite\, 54 rue des Anémones\, Sainte-Marguerite\, 88100\, France
ATTACH;FMTTYPE=image/webp:https://candicebakes.com/wp-content/uploads/2024/12/mini-donuts.webp
END:VEVENT
END:VCALENDAR